BEGIN:VCALENDAR
VERSION:2.0
PRODID:-//Beyond Open Water - ECPv4.6.11.1//NONSGML v1.0//EN
CALSCALE:GREGORIAN
METHOD:PUBLISH
X-WR-CALNAME:Beyond Open Water
X-ORIGINAL-URL:https://beyondopenwater.com
X-WR-CALDESC:Events for Beyond Open Water
BEGIN:VEVENT
DTSTART;TZID=America/New_York:20160109T140000
DTEND;TZID=America/New_York:20160109T170000
DTSTAMP:20260421T072831
CREATED:20151218T003426Z
LAST-MODIFIED:20151230T151426Z
UID:550-1452348000-1452358800@beyondopenwater.com
SUMMARY:Finning Workshop
DESCRIPTION:Learn the difference between the types of fins. \nWe when then go the the pool and learn how to do different types of finning techniques to include the back kick. \n
URL:https://beyondopenwater.com/event/finning-workshop/
END:VEVENT
END:VCALENDAR