BEGIN:VCALENDAR
VERSION:2.0
PRODID:-//Beyond Open Water - ECPv4.6.11.1//NONSGML v1.0//EN
CALSCALE:GREGORIAN
METHOD:PUBLISH
X-WR-CALNAME:Beyond Open Water
X-ORIGINAL-URL:https://beyondopenwater.com
X-WR-CALDESC:Events for Beyond Open Water
BEGIN:VEVENT
DTSTART;VALUE=DATE:20160527
DTEND;VALUE=DATE:20160531
DTSTAMP:20260420T230920
CREATED:20160123T153239Z
LAST-MODIFIED:20160123T153239Z
UID:625-1464307200-1464652799@beyondopenwater.com
SUMMARY:Dutch Springs
DESCRIPTION:
URL:https://beyondopenwater.com/event/dutch-springs/
END:VEVENT
END:VCALENDAR