BEGIN:VCALENDAR
VERSION:2.0
PRODID:-//Beyond Open Water - ECPv4.6.11.1//NONSGML v1.0//EN
CALSCALE:GREGORIAN
METHOD:PUBLISH
X-WR-CALNAME:Beyond Open Water
X-ORIGINAL-URL:https://beyondopenwater.com
X-WR-CALDESC:Events for Beyond Open Water
BEGIN:VEVENT
DTSTART;VALUE=DATE:20160916
DTEND;VALUE=DATE:20160919
DTSTAMP:20260420T190557
CREATED:20160412T234808Z
LAST-MODIFIED:20160412T234910Z
UID:737-1473984000-1474243199@beyondopenwater.com
SUMMARY:Dutch Springs
DESCRIPTION:
URL:https://beyondopenwater.com/event/dutch-springs-5/
END:VEVENT
END:VCALENDAR