BEGIN:VCALENDAR
VERSION:2.0
PRODID:-//Beyond Open Water - ECPv4.6.11.1//NONSGML v1.0//EN
CALSCALE:GREGORIAN
METHOD:PUBLISH
X-WR-CALNAME:Beyond Open Water
X-ORIGINAL-URL:https://beyondopenwater.com
X-WR-CALDESC:Events for Beyond Open Water
BEGIN:VEVENT
DTSTART;TZID=America/New_York:20230429T070000
DTEND;TZID=America/New_York:20230430T120000
DTSTAMP:20260419T130654
CREATED:20230418T021302Z
LAST-MODIFIED:20230418T021302Z
UID:1925-1682751600-1682856000@beyondopenwater.com
SUMMARY:DM WorkShop
DESCRIPTION:
URL:https://beyondopenwater.com/event/dm-workshop/
END:VEVENT
END:VCALENDAR