BEGIN:VCALENDAR
VERSION:2.0
PRODID:-//Beyond Open Water - ECPv4.6.11.1//NONSGML v1.0//EN
CALSCALE:GREGORIAN
METHOD:PUBLISH
X-WR-CALNAME:Beyond Open Water
X-ORIGINAL-URL:https://beyondopenwater.com
X-WR-CALDESC:Events for Beyond Open Water
BEGIN:VEVENT
DTSTART;TZID=America/New_York:20160123T080000
DTEND;TZID=America/New_York:20160123T170000
DTSTAMP:20260421T035039
CREATED:20151218T011745Z
LAST-MODIFIED:20151218T011959Z
UID:560-1453536000-1453568400@beyondopenwater.com
SUMMARY:Diving First Aid for Professional Divers (DFA Pro)
DESCRIPTION:
URL:https://beyondopenwater.com/event/diving-first-aid-for-professional-divers-dfa-pro/
LOCATION:Sterling
END:VEVENT
END:VCALENDAR