BEGIN:VCALENDAR
VERSION:2.0
PRODID:-//Beyond Open Water - ECPv4.6.11.1//NONSGML v1.0//EN
CALSCALE:GREGORIAN
METHOD:PUBLISH
X-WR-CALNAME:Beyond Open Water
X-ORIGINAL-URL:https://beyondopenwater.com
X-WR-CALDESC:Events for Beyond Open Water
BEGIN:VEVENT
DTSTART;TZID=America/New_York:20220925T080000
DTEND;TZID=America/New_York:20220925T120000
DTSTAMP:20260419T204109
CREATED:20220919T150540Z
LAST-MODIFIED:20220919T150540Z
UID:1586-1664092800-1664107200@beyondopenwater.com
SUMMARY:Dive master Skills Workshop
DESCRIPTION:
URL:https://beyondopenwater.com/event/dive-master-skills-workshop/
END:VEVENT
END:VCALENDAR