BEGIN:VCALENDAR
VERSION:2.0
PRODID:-//Beyond Open Water - ECPv4.6.11.1//NONSGML v1.0//EN
CALSCALE:GREGORIAN
METHOD:PUBLISH
X-WR-CALNAME:Beyond Open Water
X-ORIGINAL-URL:https://beyondopenwater.com
X-WR-CALDESC:Events for Beyond Open Water
BEGIN:VEVENT
DTSTART;VALUE=DATE:20160508
DTEND;VALUE=DATE:20160509
DTSTAMP:20260421T014701
CREATED:20160508T005815Z
LAST-MODIFIED:20160508T005827Z
UID:761-1462665600-1462751999@beyondopenwater.com
SUMMARY:Dive Master Control Workshop
DESCRIPTION:
URL:https://beyondopenwater.com/event/dive-master-contro-workshop/
LOCATION:214 Dominion Rd. NE \, Vienna\, VA\, 22180\, United States
END:VEVENT
END:VCALENDAR