BEGIN:VCALENDAR
VERSION:2.0
PRODID:-//Beyond Open Water - ECPv4.6.11.1//NONSGML v1.0//EN
CALSCALE:GREGORIAN
METHOD:PUBLISH
X-WR-CALNAME:Beyond Open Water
X-ORIGINAL-URL:https://beyondopenwater.com
X-WR-CALDESC:Events for Beyond Open Water
BEGIN:VEVENT
DTSTART;VALUE=DATE:20160730
DTEND;VALUE=DATE:20160801
DTSTAMP:20260420T224708
CREATED:20160328T232643Z
LAST-MODIFIED:20160328T233111Z
UID:722-1469836800-1470009599@beyondopenwater.com
SUMMARY:Disabled Divers International Instructor Class
DESCRIPTION:DDI programs are designed to work in cooperation with existing scuba diving training organizations and their training programs. DDI programs adds a new layer on top of the existing diver training\, allowing individuals who would have difficulties fulfilling all requirements and standards to experience diving safely with modifications and enhancements to their training and or equipment. \nDDI professional training adds to the diving professional a new set of tools and knowledge to train disabled divers safely and certify their students as a scuba diver\, with varied levels of limitations depending on the student’s ability to perform program requirements and standards. \n
URL:https://beyondopenwater.com/event/disabled-divers-international-instructor-class-2/
LOCATION:214 Dominion Rd. NE \, Vienna\, VA\, 22180\, United States
END:VEVENT
END:VCALENDAR