BEGIN:VCALENDAR
VERSION:2.0
PRODID:-//Beyond Open Water - ECPv4.6.11.1//NONSGML v1.0//EN
CALSCALE:GREGORIAN
METHOD:PUBLISH
X-WR-CALNAME:Beyond Open Water
X-ORIGINAL-URL:https://beyondopenwater.com
X-WR-CALDESC:Events for Beyond Open Water
BEGIN:VEVENT
DTSTART;TZID=America/New_York:20160908T183000
DTEND;TZID=America/New_York:20160908T203000
DTSTAMP:20260420T210626
CREATED:20160906T233210Z
LAST-MODIFIED:20160906T233210Z
UID:785-1473359400-1473366600@beyondopenwater.com
SUMMARY:DEMP Provider Class
DESCRIPTION:
URL:https://beyondopenwater.com/event/demp-provider-class-2/
LOCATION:Sterling
END:VEVENT
END:VCALENDAR