BEGIN:VCALENDAR
VERSION:2.0
PRODID:-//Beyond Open Water - ECPv4.6.11.1//NONSGML v1.0//EN
CALSCALE:GREGORIAN
METHOD:PUBLISH
X-WR-CALNAME:Beyond Open Water
X-ORIGINAL-URL:https://beyondopenwater.com
X-WR-CALDESC:Events for Beyond Open Water
BEGIN:VEVENT
DTSTART;TZID=America/New_York:20160224T180000
DTEND;TZID=America/New_York:20160225T210000
DTSTAMP:20260421T045633
CREATED:20160216T000113Z
LAST-MODIFIED:20160216T000113Z
UID:688-1456336800-1456434000@beyondopenwater.com
SUMMARY:DEMP Class
DESCRIPTION:6-9 both nights \n
URL:https://beyondopenwater.com/event/demp-class/
END:VEVENT
END:VCALENDAR