BEGIN:VCALENDAR
VERSION:2.0
PRODID:-//Beyond Open Water - ECPv4.6.11.1//NONSGML v1.0//EN
CALSCALE:GREGORIAN
METHOD:PUBLISH
X-WR-CALNAME:Beyond Open Water
X-ORIGINAL-URL:https://beyondopenwater.com
X-WR-CALDESC:Events for Beyond Open Water
BEGIN:VEVENT
DTSTART;TZID=America/New_York:20230506T080000
DTEND;TZID=America/New_York:20230506T170000
DTSTAMP:20260421T101705
CREATED:20230414T020529Z
LAST-MODIFIED:20230414T020529Z
UID:1915-1683360000-1683392400@beyondopenwater.com
SUMMARY:Deco/Extended range classroom
DESCRIPTION:
URL:https://beyondopenwater.com/event/deco-extended-range-classroom/
END:VEVENT
END:VCALENDAR