BEGIN:VCALENDAR
VERSION:2.0
PRODID:-//Beyond Open Water - ECPv4.6.11.1//NONSGML v1.0//EN
CALSCALE:GREGORIAN
METHOD:PUBLISH
X-WR-CALNAME:Beyond Open Water
X-ORIGINAL-URL:https://beyondopenwater.com
X-WR-CALDESC:Events for Beyond Open Water
BEGIN:VEVENT
DTSTART;TZID=America/New_York:20170412T090000
DTEND;TZID=America/New_York:20170412T130000
DTSTAMP:20260422T083804
CREATED:20170403T222647Z
LAST-MODIFIED:20170403T222647Z
UID:941-1491987600-1492002000@beyondopenwater.com
SUMMARY:DAN O2 ITW
DESCRIPTION:
URL:https://beyondopenwater.com/event/dan-o2-itw/
LOCATION:Sterling
END:VEVENT
END:VCALENDAR