BEGIN:VCALENDAR
VERSION:2.0
PRODID:-//Beyond Open Water - ECPv4.6.11.1//NONSGML v1.0//EN
CALSCALE:GREGORIAN
METHOD:PUBLISH
X-WR-CALNAME:Beyond Open Water
X-ORIGINAL-URL:https://beyondopenwater.com
X-WR-CALDESC:Events for Beyond Open Water
BEGIN:VEVENT
DTSTART;TZID=America/New_York:20160319T080000
DTEND;TZID=America/New_York:20160320T170000
DTSTAMP:20260421T020911
CREATED:20160215T011800Z
LAST-MODIFIED:20160215T011833Z
UID:670-1458374400-1458493200@beyondopenwater.com
SUMMARY:DAN Instructor/Instructor Trainer training
DESCRIPTION:\nWelcome and Introductions                 \nWhat is DAN\nInstructor/Trainer Role\nBasic Life Support: CPR/First Aid \n\nAssessment\nCandidate Evaluation\n\n\nEmergency Oxygen\n\nAssessment\nCandidate Evaluation\n\n\nNeurological AssessmentAssessment\n\nCandidate Evaluation\n\n\nFirst Aid for Hazardous Marine Life\n\nAssessment\nCandidate Evaluation\n\n\nDEMP\nCPR Health-Care Provider with First Aid\n\nAssessment\nCandidate Evaluation\n\n\nDiving First Aid for Professional Divers\nWrap Up/Application\n\n
URL:https://beyondopenwater.com/event/dan-instructorinstructor-trainer-training/
LOCATION:Sterling
END:VEVENT
END:VCALENDAR