BEGIN:VCALENDAR
VERSION:2.0
PRODID:-//Beyond Open Water - ECPv4.6.11.1//NONSGML v1.0//EN
CALSCALE:GREGORIAN
METHOD:PUBLISH
X-WR-CALNAME:Beyond Open Water
X-ORIGINAL-URL:https://beyondopenwater.com
X-WR-CALDESC:Events for Beyond Open Water
BEGIN:VEVENT
DTSTART;TZID=America/New_York:20160625T080000
DTEND;TZID=America/New_York:20160626T170000
DTSTAMP:20260420T201616
CREATED:20160405T002108Z
LAST-MODIFIED:20160405T002108Z
UID:726-1466841600-1466960400@beyondopenwater.com
SUMMARY:DAN Instructor Trainer Workshop
DESCRIPTION:DAN Examiner Kevin Davenport is offering a DAN DEMP ITW in the Spring of 2016. The DAN ITW program will be held 25-28 June\, 2016 in Sterling\, VA\nThe DAN ITW qualifies DAN Instructor Trainers to train DAN Instructors as part of the DAN Instructor Qualification Course (IQC). After completing a DAN Instructor Trainer Workshop (ITW)\, DAN Instructor Trainers can present the knowledge and skills development sessions of the core module and the various course modules of the IQC.\nDAN Instructors who work with individuals who dive as part of their job or volunteer duties will want to consider adding the DFA PRO and CPR HCP modules as part of their IQC\,\nThe program is designed for the Professional Diving Instructor. The schedule provides two hours of administration and Mini-Core on Friday afternoon and 8-10 hours of instruction/demonstration on Saturday. Candidates will be required to accomplish online modules prior to class.\nTo qualify to participate in the ITW\nBe a DAN Member\,\nBe an active teaching status instructor trainer with a recognized scuba diving certification organization.\nOR\nBe either an active instructor trainer with a recognized first aid agency OR an IDC Staff Instructor (or equivalent) and a current DES Instructor\,\nBe an active teaching status instructor in a recognized CPR and First Aid Program\, \nDetails \nCost: $950\nRegistration: Contact DAN Examiner Kevin Davenport\nPhone: 703-731-0257\nEmail: Kevin@beyondopenwater.com&#8221;>Kevin@beyondopenwater.com \n
URL:https://beyondopenwater.com/event/dan-instructor-trainer-workshop/
LOCATION:Sterling
END:VEVENT
END:VCALENDAR