BEGIN:VCALENDAR
VERSION:2.0
PRODID:-//Beyond Open Water - ECPv4.6.11.1//NONSGML v1.0//EN
CALSCALE:GREGORIAN
METHOD:PUBLISH
X-WR-CALNAME:Beyond Open Water
X-ORIGINAL-URL:https://beyondopenwater.com
X-WR-CALDESC:Events for Beyond Open Water
BEGIN:VEVENT
DTSTART;TZID=America/New_York:20161009T080000
DTEND;TZID=America/New_York:20161009T170000
DTSTAMP:20260420T190431
CREATED:20160824T003629Z
LAST-MODIFIED:20160824T003629Z
UID:781-1476000000-1476032400@beyondopenwater.com
SUMMARY:DAN Instructor Class
DESCRIPTION:Contact Training(at)beyondopenwater.com \n
URL:https://beyondopenwater.com/event/dan-instructor-class/
LOCATION:1755 S Street NW\, Washington\, DC\, 20009\, United States
END:VEVENT
END:VCALENDAR