BEGIN:VCALENDAR
VERSION:2.0
PRODID:-//Beyond Open Water - ECPv4.6.11.1//NONSGML v1.0//EN
CALSCALE:GREGORIAN
METHOD:PUBLISH
X-WR-CALNAME:Beyond Open Water
X-ORIGINAL-URL:https://beyondopenwater.com
X-WR-CALDESC:Events for Beyond Open Water
BEGIN:VEVENT
DTSTART;VALUE=DATE:20170130
DTEND;VALUE=DATE:20170204
DTSTAMP:20260420T081521
CREATED:20161117T003333Z
LAST-MODIFIED:20161117T003415Z
UID:832-1485734400-1486166399@beyondopenwater.com
SUMMARY:CompTia Training
DESCRIPTION:
URL:https://beyondopenwater.com/event/comptia-training/
END:VEVENT
END:VCALENDAR