BEGIN:VCALENDAR
VERSION:2.0
PRODID:-//Beyond Open Water - ECPv4.6.11.1//NONSGML v1.0//EN
CALSCALE:GREGORIAN
METHOD:PUBLISH
X-WR-CALNAME:Beyond Open Water
X-ORIGINAL-URL:https://beyondopenwater.com
X-WR-CALDESC:Events for Beyond Open Water
BEGIN:VEVENT
DTSTART;TZID=America/New_York:20180421T060000
DTEND;TZID=America/New_York:20180429T210000
DTSTAMP:20260420T025013
CREATED:20171231T075157Z
LAST-MODIFIED:20171231T075511Z
UID:984-1524290400-1525035600@beyondopenwater.com
SUMMARY:Chuuk Lagoon
DESCRIPTION:Tank on the San Fransisco Maru\nBeyond Open Water\n
URL:https://beyondopenwater.com/event/chuuk-lagoon/
END:VEVENT
END:VCALENDAR