BEGIN:VCALENDAR
VERSION:2.0
PRODID:-//Beyond Open Water - ECPv4.6.11.1//NONSGML v1.0//EN
CALSCALE:GREGORIAN
METHOD:PUBLISH
X-WR-CALNAME:Beyond Open Water
X-ORIGINAL-URL:https://beyondopenwater.com
X-WR-CALDESC:Events for Beyond Open Water
BEGIN:VEVENT
DTSTART;TZID=America/New_York:20161215T080000
DTEND;TZID=America/New_York:20161230T170000
DTSTAMP:20260420T113545
CREATED:20161020T233022Z
LAST-MODIFIED:20161020T233022Z
UID:816-1481788800-1483117200@beyondopenwater.com
SUMMARY:Chuck Live Aboard
DESCRIPTION:
URL:https://beyondopenwater.com/event/chuck-live-aboard/
END:VEVENT
END:VCALENDAR