BEGIN:VCALENDAR
VERSION:2.0
PRODID:-//Beyond Open Water - ECPv4.6.11.1//NONSGML v1.0//EN
CALSCALE:GREGORIAN
METHOD:PUBLISH
X-WR-CALNAME:Beyond Open Water
X-ORIGINAL-URL:https://beyondopenwater.com
X-WR-CALDESC:Events for Beyond Open Water
BEGIN:VEVENT
DTSTART;TZID=America/New_York:20221031T070000
DTEND;TZID=America/New_York:20221031T120000
DTSTAMP:20260419T171930
CREATED:20220831T184415Z
LAST-MODIFIED:20220831T184415Z
UID:1570-1667199600-1667217600@beyondopenwater.com
SUMMARY:CD Update
DESCRIPTION:The Rosen Center\, 9840 International Dr\, Orlando\, FL 32819\, Orlando\, Florida 32819 \n
URL:https://beyondopenwater.com/event/cd-update/
END:VEVENT
END:VCALENDAR