BEGIN:VCALENDAR
VERSION:2.0
PRODID:-//Beyond Open Water - ECPv4.6.11.1//NONSGML v1.0//EN
CALSCALE:GREGORIAN
METHOD:PUBLISH
X-WR-CALNAME:Beyond Open Water
X-ORIGINAL-URL:https://beyondopenwater.com
X-WR-CALDESC:Events for Beyond Open Water
BEGIN:VEVENT
DTSTART;TZID=America/New_York:20160220T090000
DTEND;TZID=America/New_York:20160221T170000
DTSTAMP:20260421T002015
CREATED:20160123T152829Z
LAST-MODIFIED:20160123T152829Z
UID:623-1455958800-1456074000@beyondopenwater.com
SUMMARY:camp Fair
DESCRIPTION:
URL:https://beyondopenwater.com/event/camp-fair/
END:VEVENT
END:VCALENDAR