BEGIN:VCALENDAR
VERSION:2.0
PRODID:-//Beyond Open Water - ECPv4.6.11.1//NONSGML v1.0//EN
CALSCALE:GREGORIAN
METHOD:PUBLISH
X-WR-CALNAME:Beyond Open Water
X-ORIGINAL-URL:https://beyondopenwater.com
X-WR-CALDESC:Events for Beyond Open Water
BEGIN:VEVENT
DTSTART;TZID=America/New_York:20160119T043000
DTEND;TZID=America/New_York:20160119T170000
DTSTAMP:20260423T091554
CREATED:20160106T001246Z
LAST-MODIFIED:20160108T204732Z
UID:607-1453177800-1453222800@beyondopenwater.com
SUMMARY:Busy-C
DESCRIPTION:
URL:https://beyondopenwater.com/event/busy/
END:VEVENT
END:VCALENDAR