BEGIN:VCALENDAR
VERSION:2.0
PRODID:-//Beyond Open Water - ECPv4.6.11.1//NONSGML v1.0//EN
CALSCALE:GREGORIAN
METHOD:PUBLISH
X-WR-CALNAME:Beyond Open Water
X-ORIGINAL-URL:https://beyondopenwater.com
X-WR-CALDESC:Events for Beyond Open Water
BEGIN:VEVENT
DTSTART;TZID=America/New_York:20160126T090000
DTEND;TZID=America/New_York:20160126T220000
DTSTAMP:20260421T020257
CREATED:20160121T004824Z
LAST-MODIFIED:20160121T004824Z
UID:615-1453798800-1453845600@beyondopenwater.com
SUMMARY:Busy-F
DESCRIPTION:
URL:https://beyondopenwater.com/event/busy-f/
END:VEVENT
END:VCALENDAR