BEGIN:VCALENDAR
VERSION:2.0
PRODID:-//Beyond Open Water - ECPv4.6.11.1//NONSGML v1.0//EN
CALSCALE:GREGORIAN
METHOD:PUBLISH
X-WR-CALNAME:Beyond Open Water
X-ORIGINAL-URL:https://beyondopenwater.com
X-WR-CALDESC:Events for Beyond Open Water
BEGIN:VEVENT
DTSTART;TZID=America/New_York:20160120T033000
DTEND;TZID=America/New_York:20160120T170000
DTSTAMP:20260421T053608
CREATED:20160106T001332Z
LAST-MODIFIED:20160106T001332Z
UID:608-1453260600-1453309200@beyondopenwater.com
SUMMARY:Busy-D
DESCRIPTION:
URL:https://beyondopenwater.com/event/busy-d/
END:VEVENT
END:VCALENDAR