BEGIN:VCALENDAR
VERSION:2.0
PRODID:-//Beyond Open Water - ECPv4.6.11.1//NONSGML v1.0//EN
CALSCALE:GREGORIAN
METHOD:PUBLISH
X-WR-CALNAME:Beyond Open Water
X-ORIGINAL-URL:https://beyondopenwater.com
X-WR-CALDESC:Events for Beyond Open Water
BEGIN:VEVENT
DTSTART;TZID=America/New_York:20160322T073000
DTEND;TZID=America/New_York:20160322T084500
DTSTAMP:20260421T035911
CREATED:20160319T004220Z
LAST-MODIFIED:20160319T004245Z
UID:717-1458631800-1458636300@beyondopenwater.com
SUMMARY:Busy-C & T
DESCRIPTION:
URL:https://beyondopenwater.com/event/busy-c-t/
END:VEVENT
END:VCALENDAR