BEGIN:VCALENDAR
VERSION:2.0
PRODID:-//Beyond Open Water - ECPv4.6.11.1//NONSGML v1.0//EN
CALSCALE:GREGORIAN
METHOD:PUBLISH
X-WR-CALNAME:Beyond Open Water
X-ORIGINAL-URL:https://beyondopenwater.com
X-WR-CALDESC:Events for Beyond Open Water
BEGIN:VEVENT
DTSTART;VALUE=DATE:20160813
DTEND;VALUE=DATE:20160822
DTSTAMP:20260420T183625
CREATED:20160413T001120Z
LAST-MODIFIED:20160413T001156Z
UID:745-1471046400-1471823999@beyondopenwater.com
SUMMARY:Bonaire
DESCRIPTION:
URL:https://beyondopenwater.com/event/bonaire/
END:VEVENT
END:VCALENDAR