BEGIN:VCALENDAR
VERSION:2.0
PRODID:-//Beyond Open Water - ECPv4.6.11.1//NONSGML v1.0//EN
CALSCALE:GREGORIAN
METHOD:PUBLISH
X-WR-CALNAME:Beyond Open Water
X-ORIGINAL-URL:https://beyondopenwater.com
X-WR-CALDESC:Events for Beyond Open Water
BEGIN:VEVENT
DTSTART;TZID=America/New_York:20230425T070000
DTEND;TZID=America/New_York:20230425T103000
DTSTAMP:20260419T131534
CREATED:20230407T165032Z
LAST-MODIFIED:20230407T165032Z
UID:1905-1682406000-1682418600@beyondopenwater.com
SUMMARY:Boat Dive Advance Class
DESCRIPTION:
URL:https://beyondopenwater.com/event/boat-dive-advance-class-2/
END:VEVENT
END:VCALENDAR