BEGIN:VCALENDAR
VERSION:2.0
PRODID:-//Beyond Open Water - ECPv4.6.11.1//NONSGML v1.0//EN
CALSCALE:GREGORIAN
METHOD:PUBLISH
X-WR-CALNAME:Beyond Open Water
X-ORIGINAL-URL:https://beyondopenwater.com
X-WR-CALDESC:Events for Beyond Open Water
BEGIN:VEVENT
DTSTART;TZID=America/New_York:20160902T060000
DTEND;TZID=America/New_York:20160905T200000
DTSTAMP:20260420T190411
CREATED:20160723T001948Z
LAST-MODIFIED:20160723T001948Z
UID:775-1472796000-1473105600@beyondopenwater.com
SUMMARY:Alabama
DESCRIPTION:
URL:https://beyondopenwater.com/event/alabama/
END:VEVENT
END:VCALENDAR